BEGIN:VCALENDAR
VERSION:2.0
PRODID:Events Booking
BEGIN:VEVENT
UID:69e6f0e45535d
SUMMARY:Festa del Crocifisso
DESCRIPTION:Festa del Crocifisso
DTSTART:20240324T000000Z
DTEND:20240324T000000Z
DTSTAMP:20240316T101310Z
ORGANIZER;CN=Reggio Calabria Eventi e Notizie:MAILTO:networkeventnews@gmail
 .com
END:VEVENT
END:VCALENDAR