BEGIN:VCALENDAR
VERSION:2.0
PRODID:Events Booking
BEGIN:VEVENT
UID:69ea97135c99f
SUMMARY:Moto raduno interforze Reggio Calabria 
DESCRIPTION:Moto raduno interforze Reggio Calabria
LOCATION:Reggio Calabria
DTSTART:20240607T090000Z
DTSTAMP:20240502T114742Z
ORGANIZER;CN=Reggio Calabria Eventi e Notizie:MAILTO:networkeventnews@gmail
 .com
GEO:38.114559;15.652831
X-APPLE-STRUCTURED-LOCATION;VALUE=URI;X-ADDRESS=Reggio Calabria;X-APPLE-RAD
 IUS=72;X-TITLE=Reggio Calabria:38.114559;15.652831
END:VEVENT
END:VCALENDAR